BEGIN:VCALENDAR
VERSION:2.0
PRODID:-//Focales
CALSCALE:GREGORIAN
METHOD:PUBLISH
X-WR-CALNAME:Focales
X-ORIGINAL-URL:https://focales.org/mon-ptit-rio/
X-WR-CALDESC:MON P&rsquo;TIT RIO
BEGIN:VEVENT
DTSTART:20221109T133000
DTEND:20221109T163000
SUMMARY:MON P&rsquo;TIT RIO
DESCRIPTION:
LOCATION:Cinéma le rio, Clermont-Ferrand
END:VEVENT
END:VCALENDAR
