BEGIN:VCALENDAR
VERSION:2.0
PRODID:-//Focales
CALSCALE:GREGORIAN
METHOD:PUBLISH
X-WR-CALNAME:Focales
X-ORIGINAL-URL:https://focales.org/95-mm-le-cinema-amateur-a-100-ans/
X-WR-CALDESC:9,5 mm. LE CINEMA AMATEUR A 100 ANS
BEGIN:VEVENT
DTSTART:20220917T133000
DTEND:20221215T173000
SUMMARY:9,5 mm. LE CINEMA AMATEUR A 100 ANS
DESCRIPTION:
LOCATION:Archives départementales du Puy-de-Dôme, Montferrand
END:VEVENT
END:VCALENDAR
