BEGIN:VCALENDAR
VERSION:2.0
PRODID:-//Focales
CALSCALE:GREGORIAN
METHOD:PUBLISH
X-WR-CALNAME:Focales
X-ORIGINAL-URL:https://focales.org/reprise-en-main-de-gilles-perret/
X-WR-CALDESC:REPRISE EN MAIN DE GILLES PERRET
BEGIN:VEVENT
DTSTART:20220917T180000
DTEND:20220917T210000
SUMMARY:REPRISE EN MAIN DE GILLES PERRET
DESCRIPTION:
LOCATION:Cinéma le rio, Clermont-Ferrand
END:VEVENT
END:VCALENDAR
