BEGIN:VCALENDAR
VERSION:2.0
PRODID:-//Focales
CALSCALE:GREGORIAN
METHOD:PUBLISH
X-WR-CALNAME:Focales
X-ORIGINAL-URL:https://focales.org/college-au-cinema-puy-de-dome/
X-WR-CALDESC:COLLEGE AU CINEMA PUY-DE-DOME
BEGIN:VEVENT
DTSTART:20221018T090000
DTEND:20221018T170000
SUMMARY:COLLEGE AU CINEMA PUY-DE-DOME
DESCRIPTION:
LOCATION:La Jetée, Clermont-Ferrand
END:VEVENT
END:VCALENDAR
