BEGIN:VCALENDAR
VERSION:2.0
PRODID:-//Focales
CALSCALE:GREGORIAN
METHOD:PUBLISH
X-WR-CALNAME:Focales
X-ORIGINAL-URL:https://focales.org/la-lanterne-magique/
X-WR-CALDESC:LA LANTERNE MAGIQUE
BEGIN:VEVENT
DTSTART:20220929T183000
DTEND:20220929T193000
SUMMARY:LA LANTERNE MAGIQUE
DESCRIPTION:
LOCATION:La Jetée, Clermont-Ferrand
END:VEVENT
END:VCALENDAR
