BEGIN:VCALENDAR
VERSION:2.0
PRODID:-//Focales
CALSCALE:GREGORIAN
METHOD:PUBLISH
X-WR-CALNAME:Focales
X-ORIGINAL-URL:https://focales.org/prune-et-burn-out-pedalo/
X-WR-CALDESC:PRUNE ET BURN OUT &#038; PEDALO
BEGIN:VEVENT
DTSTART:20220914T143000
DTEND:20220914T160000
SUMMARY:PRUNE ET BURN OUT &#038; PEDALO
DESCRIPTION:
LOCATION:La Jetée, Clermont-Ferrand 
END:VEVENT
END:VCALENDAR
