BEGIN:VCALENDAR
VERSION:2.0
PRODID:-//Focales
CALSCALE:GREGORIAN
METHOD:PUBLISH
X-WR-CALNAME:Focales
X-ORIGINAL-URL:https://focales.org/ennio-morricone-par-thierry-jousse/
X-WR-CALDESC:ENNIO MORRICONE PAR THIERRY JOUSSE
BEGIN:VEVENT
DTSTART:20221005T140000
DTEND:20221005T163000
SUMMARY:ENNIO MORRICONE PAR THIERRY JOUSSE
DESCRIPTION:
LOCATION:Cinéma le Rio, Clermont-Ferrand
END:VEVENT
END:VCALENDAR
