BEGIN:VCALENDAR
VERSION:2.0
PRODID:-//Focales
CALSCALE:GREGORIAN
METHOD:PUBLISH
X-WR-CALNAME:Focales
X-ORIGINAL-URL:https://focales.org/demonstration-de-projection-16-mm-par-guichard-wiss-suivi-de-cinema-paradiso/
X-WR-CALDESC:DEMONSTRATION DE PROJECTION 16 MM PAR GUICHARD WISS SUIVI DE CINEMA PARADISO
BEGIN:VEVENT
DTSTART:20221009T140000
DTEND:20221009T163000
SUMMARY:DEMONSTRATION DE PROJECTION 16 MM PAR GUICHARD WISS SUIVI DE CINEMA PARADISO
DESCRIPTION:
LOCATION:Cinéma le Rio, Clermont-Ferrand
END:VEVENT
END:VCALENDAR
