BEGIN:VCALENDAR
VERSION:2.0
PRODID:-//Focales
CALSCALE:GREGORIAN
METHOD:PUBLISH
X-WR-CALNAME:Focales
X-ORIGINAL-URL:https://focales.org/ateliers-cinema-du-suc/
X-WR-CALDESC:ATELIERS CINEMA DU SUC
BEGIN:VEVENT
DTSTART:20220912T090000
DTEND:20220930T170000
SUMMARY:ATELIERS CINEMA DU SUC
DESCRIPTION:
LOCATION:Service université Culture, Clermont-Ferrand
END:VEVENT
END:VCALENDAR
