BEGIN:VCALENDAR
VERSION:2.0
PRODID:-//Focales
CALSCALE:GREGORIAN
METHOD:PUBLISH
X-WR-CALNAME:Focales
X-ORIGINAL-URL:https://focales.org/conference-sur-lhistoire-du-cinema-amateur/
X-WR-CALDESC:CONFERENCE SUR L&rsquo;HISTOIRE DU CINEMA AMATEUR
BEGIN:VEVENT
DTSTART:20220929T180000
DTEND:20220929T200000
SUMMARY:CONFERENCE SUR L&rsquo;HISTOIRE DU CINEMA AMATEUR
DESCRIPTION:
LOCATION:Archives départementales du Puy-de-Dôme, Clermont-Ferrand
END:VEVENT
END:VCALENDAR
