BEGIN:VCALENDAR
VERSION:2.0
PRODID:-//Focales
CALSCALE:GREGORIAN
METHOD:PUBLISH
X-WR-CALNAME:Focales
X-ORIGINAL-URL:https://focales.org/la-photo-dechiree-chronique-dune-emigration-clandestine/
X-WR-CALDESC:LA PHOTO DECHIREE, CHRONIQUE D&rsquo;UNE EMIGRATION CLANDESTINE
BEGIN:VEVENT
DTSTART:20221014T200000
DTEND:20221014T213000
SUMMARY:LA PHOTO DECHIREE, CHRONIQUE D&rsquo;UNE EMIGRATION CLANDESTINE
DESCRIPTION:
LOCATION:Centre de documentation La Jetée, Clermont-Ferrand
END:VEVENT
END:VCALENDAR
