BEGIN:VCALENDAR
VERSION:2.0
PRODID:-//Focales
CALSCALE:GREGORIAN
METHOD:PUBLISH
X-WR-CALNAME:Focales
X-ORIGINAL-URL:https://focales.org/concours-du-film-court-du-crous/
X-WR-CALDESC:CONCOURS DU FILM COURT DU CROUS
BEGIN:VEVENT
DTSTART:20220928T090000
DTEND:20230512T234500
SUMMARY:CONCOURS DU FILM COURT DU CROUS
DESCRIPTION:
LOCATION:
END:VEVENT
END:VCALENDAR
