BEGIN:VCALENDAR
VERSION:2.0
PRODID:-//Focales
CALSCALE:GREGORIAN
METHOD:PUBLISH
X-WR-CALNAME:Focales
X-ORIGINAL-URL:https://focales.org/atelier-cinema-faire-un-film/
X-WR-CALDESC:ATELIER CINEMA : FAIRE UN FILM
BEGIN:VEVENT
DTSTART:20220928T153000
DTEND:20230531T173000
SUMMARY:ATELIER CINEMA : FAIRE UN FILM
DESCRIPTION:
LOCATION:Centre Camille Claudel, Clermont-Ferrand
END:VEVENT
END:VCALENDAR
