BEGIN:VCALENDAR
VERSION:2.0
PRODID:-//Focales
CALSCALE:GREGORIAN
METHOD:PUBLISH
X-WR-CALNAME:Focales
X-ORIGINAL-URL:https://focales.org/festival-jean-carmet-2022/
X-WR-CALDESC:FESTIVAL JEAN CARMET
BEGIN:VEVENT
DTSTART:20221012T200000
DTEND:20221018T220000
SUMMARY:FESTIVAL JEAN CARMET
DESCRIPTION:
LOCATION:CGR, Moulins
END:VEVENT
END:VCALENDAR
