BEGIN:VCALENDAR
VERSION:2.0
PRODID:-//Focales
CALSCALE:GREGORIAN
METHOD:PUBLISH
X-WR-CALNAME:Focales
X-ORIGINAL-URL:https://focales.org/minuscule-la-vallee-des-fourmis-perdus-tours-sur-meymont/
X-WR-CALDESC:MINUSCULE &#8211; LA VALLÉE DES FOURMIS PERDUES
BEGIN:VEVENT
DTSTART:20150704T220000
DTEND:20150704T232900
SUMMARY:MINUSCULE &#8211; LA VALLÉE DES FOURMIS PERDUES
DESCRIPTION:
LOCATION:Tours-sur-Meymont
END:VEVENT
END:VCALENDAR
