BEGIN:VCALENDAR
VERSION:2.0
PRODID:-//Focales
CALSCALE:GREGORIAN
METHOD:PUBLISH
X-WR-CALNAME:Focales
X-ORIGINAL-URL:https://focales.org/la-cour-des-miracles-de-carine-may-et-hakim-zouhani-2/
X-WR-CALDESC:LA COUR DES MIRACLES DE CARINE MAY ET HAKIM ZOUHANI
BEGIN:VEVENT
DTSTART:20221028T203000
DTEND:20221028T223000
SUMMARY:LA COUR DES MIRACLES DE CARINE MAY ET HAKIM ZOUHANI
DESCRIPTION:
LOCATION:Cinéma le Palace, cinéma le Palace
END:VEVENT
END:VCALENDAR
