BEGIN:VCALENDAR
VERSION:2.0
PRODID:-//Focales
CALSCALE:GREGORIAN
METHOD:PUBLISH
X-WR-CALNAME:Focales
X-ORIGINAL-URL:https://focales.org/trois-nuits-par-semaine-de-florent-gouelou/
X-WR-CALDESC:TROIS NUITS PAR SEMAINE DE FLORENT GOUELOU
BEGIN:VEVENT
DTSTART:20221119T203000
DTEND:20221119T224500
SUMMARY:TROIS NUITS PAR SEMAINE DE FLORENT GOUELOU
DESCRIPTION:
LOCATION:Cinéma le Palace, cinéma le Palace
END:VEVENT
END:VCALENDAR
