BEGIN:VCALENDAR
VERSION:2.0
PRODID:-//Focales
CALSCALE:GREGORIAN
METHOD:PUBLISH
X-WR-CALNAME:Focales
X-ORIGINAL-URL:https://focales.org/pamfir-en-presence-du-realisateur/
X-WR-CALDESC:PAMFIR EN PRESENCE DU REALISATEUR
BEGIN:VEVENT
DTSTART:20221015T200000
DTEND:20221015T223000
SUMMARY:PAMFIR EN PRESENCE DU REALISATEUR
DESCRIPTION:
LOCATION:Cinéma le Rio, Clermont-Ferrand
END:VEVENT
END:VCALENDAR
