BEGIN:VCALENDAR
VERSION:2.0
PRODID:-//Focales
CALSCALE:GREGORIAN
METHOD:PUBLISH
X-WR-CALNAME:Focales
X-ORIGINAL-URL:https://focales.org/atelier-de-programmation-de-courts-metrages-2022/
X-WR-CALDESC:ATELIER DE PROGRAMMATION DE COURTS METRAGES
BEGIN:VEVENT
DTSTART:20221024T093000
DTEND:20221024T180000
SUMMARY:ATELIER DE PROGRAMMATION DE COURTS METRAGES
DESCRIPTION:
LOCATION:La Jetée, Clermont-Ferrand
END:VEVENT
END:VCALENDAR
