BEGIN:VCALENDAR
VERSION:2.0
PRODID:-//Focales
CALSCALE:GREGORIAN
METHOD:PUBLISH
X-WR-CALNAME:Focales
X-ORIGINAL-URL:https://focales.org/mickael-kohlhaas-en-presence-de-martin-wheeler/
X-WR-CALDESC:MICKAEL KOHLHAAS EN PRESENCE DE MARTIN WHEELER
BEGIN:VEVENT
DTSTART:20221129T200000
DTEND:20221129T230000
SUMMARY:MICKAEL KOHLHAAS EN PRESENCE DE MARTIN WHEELER
DESCRIPTION:
LOCATION:Faculté des lettres, Clermont-Ferrand
END:VEVENT
END:VCALENDAR
