BEGIN:VCALENDAR
VERSION:2.0
PRODID:-//Focales
CALSCALE:GREGORIAN
METHOD:PUBLISH
X-WR-CALNAME:Focales
X-ORIGINAL-URL:https://focales.org/projection-courts-metrages-cm2-charles-perrault/
X-WR-CALDESC:ECOLE CHARLES PERRAULT PARCOURS ARTISTIQUE
BEGIN:VEVENT
DTSTART:20150629T140000
DTEND:20150629T160000
SUMMARY:ECOLE CHARLES PERRAULT PARCOURS ARTISTIQUE
DESCRIPTION:
LOCATION:Clermont-Ferrand, Espace Nelson Mandela, rue Tourrette
END:VEVENT
END:VCALENDAR
