BEGIN:VCALENDAR
VERSION:2.0
PRODID:-//Focales
CALSCALE:GREGORIAN
METHOD:PUBLISH
X-WR-CALNAME:Focales
X-ORIGINAL-URL:https://focales.org/malo-et-les-etincelles-de-julie-siboni/
X-WR-CALDESC:MALO ET LES ETINCELLES DE JULIE SIBONI
BEGIN:VEVENT
DTSTART:20221114T200000
DTEND:20221114T223000
SUMMARY:MALO ET LES ETINCELLES DE JULIE SIBONI
DESCRIPTION:
LOCATION:Cinéma le Rio, Clermont-Ferrand
END:VEVENT
END:VCALENDAR
