BEGIN:VCALENDAR
VERSION:2.0
PRODID:-//Focales
CALSCALE:GREGORIAN
METHOD:PUBLISH
X-WR-CALNAME:Focales
X-ORIGINAL-URL:https://focales.org/les-autres-chemins-demmanuelle-lacosse/
X-WR-CALDESC:LES AUTRES CHEMINS D&rsquo;EMMANUELLE LACOSSE
BEGIN:VEVENT
DTSTART:20221124T200000
DTEND:20221124T223000
SUMMARY:LES AUTRES CHEMINS D&rsquo;EMMANUELLE LACOSSE
DESCRIPTION:
LOCATION:Cinéma le Rio, Clermont-Ferrand
END:VEVENT
END:VCALENDAR
