BEGIN:VCALENDAR
VERSION:2.0
PRODID:-//Focales
CALSCALE:GREGORIAN
METHOD:PUBLISH
X-WR-CALNAME:Focales
X-ORIGINAL-URL:https://focales.org/courts-particuliers-synti-synti-lile-ecorchee-presente-par-la-realisatrice-marion-jhoaner/
X-WR-CALDESC:SYNTI, SYNTI &#8211; L&rsquo;ÎLE ÉCORCHÉE EN PRESENCE DE MARION JHOANER
BEGIN:VEVENT
DTSTART:20221124T183000
DTEND:20221124T193000
SUMMARY:SYNTI, SYNTI &#8211; L&rsquo;ÎLE ÉCORCHÉE EN PRESENCE DE MARION JHOANER
DESCRIPTION:
LOCATION:6 place Michel-de-l'Hospital 63058 Clermont-Ferrand
END:VEVENT
END:VCALENDAR
