BEGIN:VCALENDAR
VERSION:2.0
PRODID:-//Focales
CALSCALE:GREGORIAN
METHOD:PUBLISH
X-WR-CALNAME:Focales
X-ORIGINAL-URL:https://focales.org/seance-scolaire-2023/
X-WR-CALDESC:SÉANCE SCOLAIRE 2023
BEGIN:VEVENT
DTSTART:20230130T093000
DTEND:20230203T113000
SUMMARY:SÉANCE SCOLAIRE 2023
DESCRIPTION:
LOCATION:
END:VEVENT
END:VCALENDAR
