BEGIN:VCALENDAR
VERSION:2.0
PRODID:-//Focales
CALSCALE:GREGORIAN
METHOD:PUBLISH
X-WR-CALNAME:Focales
X-ORIGINAL-URL:https://focales.org/benevolat-au-festival-du-court-metrage-de-clermont-ferrand-2023/
X-WR-CALDESC:BENEVOLAT AU FESTIVAL DU COURT MÉTRAGE DE CLERMONT-FERRAND 2023
BEGIN:VEVENT
DTSTART:20230127T000000
DTEND:20230204T000000
SUMMARY:BENEVOLAT AU FESTIVAL DU COURT MÉTRAGE DE CLERMONT-FERRAND 2023
DESCRIPTION:
LOCATION:https://www.google.fr/maps/place/Maison+de+la+Culture/@45.7705506,3.0840429,17z/data=!4m2!3m1!1s0x0000000000000000:0x6f80722cdcb1fb2a
END:VEVENT
END:VCALENDAR
