BEGIN:VCALENDAR
VERSION:2.0
PRODID:-//Focales
CALSCALE:GREGORIAN
METHOD:PUBLISH
X-WR-CALNAME:Focales
X-ORIGINAL-URL:https://focales.org/les-insolites/
X-WR-CALDESC:« LES INSOLITES »
BEGIN:VEVENT
DTSTART:20221118T203000
DTEND:20221118T230000
SUMMARY:« LES INSOLITES »
DESCRIPTION:
LOCATION:16 rue des frères Degand, 03800 GANNAT
END:VEVENT
END:VCALENDAR
