BEGIN:VCALENDAR
VERSION:2.0
PRODID:-//Focales
CALSCALE:GREGORIAN
METHOD:PUBLISH
X-WR-CALNAME:Focales
X-ORIGINAL-URL:https://focales.org/court-particulier-espace-par-philippe-mary/
X-WR-CALDESC:COURT PARTICULIER : ESPACE PAR PHILIPPE MARY
BEGIN:VEVENT
DTSTART:20221207T183000
DTEND:20221207T193000
SUMMARY:COURT PARTICULIER : ESPACE PAR PHILIPPE MARY
DESCRIPTION:
LOCATION:6 place Michel-de-l'Hospital 63058 Clermont-Ferrand
END:VEVENT
END:VCALENDAR
