BEGIN:VCALENDAR
VERSION:2.0
PRODID:-//Focales
CALSCALE:GREGORIAN
METHOD:PUBLISH
X-WR-CALNAME:Focales
X-ORIGINAL-URL:https://focales.org/graines-dodyssees-de-nicolas-ferard/
X-WR-CALDESC:GRAINES D&rsquo;ODYSSÉES DE NICOLAS FERARD
BEGIN:VEVENT
DTSTART:20221130T200000
DTEND:20221130T223000
SUMMARY:GRAINES D&rsquo;ODYSSÉES DE NICOLAS FERARD
DESCRIPTION:
LOCATION:Cinéma Le Rio 178 rue Sous les Vignes Clermont-Ferrand, 63100 France
END:VEVENT
END:VCALENDAR
