BEGIN:VCALENDAR
VERSION:2.0
PRODID:-//Focales
CALSCALE:GREGORIAN
METHOD:PUBLISH
X-WR-CALNAME:Focales
X-ORIGINAL-URL:https://focales.org/la-chanson-de-thiphaine-raffier/
X-WR-CALDESC:LA CHANSON DE THIPHAINE RAFFIER
BEGIN:VEVENT
DTSTART:20221201T180000
DTEND:20221201T190000
SUMMARY:LA CHANSON DE THIPHAINE RAFFIER
DESCRIPTION:
LOCATION: La Jetée, 6 Place Michel-de-l'Hospital, 63058 Clermont-Ferrand
END:VEVENT
END:VCALENDAR
