BEGIN:VCALENDAR
VERSION:2.0
PRODID:-//Focales
CALSCALE:GREGORIAN
METHOD:PUBLISH
X-WR-CALNAME:Focales
X-ORIGINAL-URL:https://focales.org/il-nous-reste-la-colere-de-j-jendari-et-n-beirnaert/
X-WR-CALDESC:IL NOUS RESTE LA COLÈRE DE J. JENDARI et N. BEIRNAERT
BEGIN:VEVENT
DTSTART:20221212T200000
DTEND:20221212T220000
SUMMARY:IL NOUS RESTE LA COLÈRE DE J. JENDARI et N. BEIRNAERT
DESCRIPTION:
LOCATION:178 Rue sous les Vignes, 63100 Clermont-Ferrand
END:VEVENT
END:VCALENDAR
