BEGIN:VCALENDAR
VERSION:2.0
PRODID:-//Focales
CALSCALE:GREGORIAN
METHOD:PUBLISH
X-WR-CALNAME:Focales
X-ORIGINAL-URL:https://focales.org/concours-grand-angle/
X-WR-CALDESC:CONCOURS GRAND ANGLE
BEGIN:VEVENT
DTSTART:20230109T080000
DTEND:20230417T235900
SUMMARY:CONCOURS GRAND ANGLE
DESCRIPTION:
LOCATION:
END:VEVENT
END:VCALENDAR
