BEGIN:VCALENDAR
VERSION:2.0
PRODID:-//Focales
CALSCALE:GREGORIAN
METHOD:PUBLISH
X-WR-CALNAME:Focales
X-ORIGINAL-URL:https://focales.org/rencontre-nationale-des-poles-2023/
X-WR-CALDESC:RENCONTRE NATIONALE DES PÔLES 2023
BEGIN:VEVENT
DTSTART:20230130T140000
DTEND:20230131T170000
SUMMARY:RENCONTRE NATIONALE DES PÔLES 2023
DESCRIPTION:
LOCATION: La Jetée, 6 Place Michel-de-l'Hospital, 63058 Clermont-Ferrand
END:VEVENT
END:VCALENDAR
