BEGIN:VCALENDAR
VERSION:2.0
PRODID:-//Focales
CALSCALE:GREGORIAN
METHOD:PUBLISH
X-WR-CALNAME:Focales
X-ORIGINAL-URL:https://focales.org/atelier-film-suede/
X-WR-CALDESC:ATELIER FILM SUÉDÉ
BEGIN:VEVENT
DTSTART:20230107T100000
DTEND:20230311T120000
SUMMARY:ATELIER FILM SUÉDÉ
DESCRIPTION:
LOCATION:Centre Camille Claudel, 3 rue maréchal Joffre 63000 Clermont-Ferrand
END:VEVENT
END:VCALENDAR
