BEGIN:VCALENDAR
VERSION:2.0
PRODID:-//Focales
CALSCALE:GREGORIAN
METHOD:PUBLISH
X-WR-CALNAME:Focales
X-ORIGINAL-URL:https://focales.org/projections-en-milieu-penitentiaire/
X-WR-CALDESC:PROJECTIONS EN MILIEU PÉNITENTIAIRE
BEGIN:VEVENT
DTSTART:20150706T140000
DTEND:20150804T160000
SUMMARY:PROJECTIONS EN MILIEU PÉNITENTIAIRE
DESCRIPTION:
LOCATION:
END:VEVENT
END:VCALENDAR
