BEGIN:VCALENDAR
VERSION:2.0
PRODID:-//Focales
CALSCALE:GREGORIAN
METHOD:PUBLISH
X-WR-CALNAME:Focales
X-ORIGINAL-URL:https://focales.org/rencontres-video-amateurs-2/
X-WR-CALDESC:RENCONTRES VIDÉO AMATEURS
BEGIN:VEVENT
DTSTART:20230107T150000
DTEND:20230107T170000
SUMMARY:RENCONTRES VIDÉO AMATEURS
DESCRIPTION:
LOCATION:86 Rue de l'Oradou, 63000 Clermont-Ferrand
END:VEVENT
END:VCALENDAR
