BEGIN:VCALENDAR
VERSION:2.0
PRODID:-//Focales
CALSCALE:GREGORIAN
METHOD:PUBLISH
X-WR-CALNAME:Focales
X-ORIGINAL-URL:https://focales.org/concours-international-lumexplore-junior-2023/
X-WR-CALDESC:CONCOURS INTERNATIONAL LUMEXPLORE JUNIOR 2023
BEGIN:VEVENT
DTSTART:20230102T080000
DTEND:20230131T235900
SUMMARY:CONCOURS INTERNATIONAL LUMEXPLORE JUNIOR 2023
DESCRIPTION:
LOCATION:
END:VEVENT
END:VCALENDAR
