BEGIN:VCALENDAR
VERSION:2.0
PRODID:-//Focales
CALSCALE:GREGORIAN
METHOD:PUBLISH
X-WR-CALNAME:Focales
X-ORIGINAL-URL:https://focales.org/6e-festival-un-pays-un-film/
X-WR-CALDESC:6E FESTIVAL UN PAYS, UN FILM
BEGIN:VEVENT
DTSTART:20150724T000000
DTEND:20150726T000000
SUMMARY:6E FESTIVAL UN PAYS, UN FILM
DESCRIPTION:
LOCATION:Apchat
END:VEVENT
END:VCALENDAR
