BEGIN:VCALENDAR
VERSION:2.0
PRODID:-//Focales
CALSCALE:GREGORIAN
METHOD:PUBLISH
X-WR-CALNAME:Focales
X-ORIGINAL-URL:https://focales.org/alma-viva-de-christele-alves-meira/
X-WR-CALDESC:ALMA VIVA DE CHRISTÈLE ALVES MEIRA
BEGIN:VEVENT
DTSTART:20230203T200000
DTEND:20230203T223000
SUMMARY:ALMA VIVA DE CHRISTÈLE ALVES MEIRA
DESCRIPTION:
LOCATION:178 rue Sous les Vignes Clermont-Ferrand, 63100 France
END:VEVENT
END:VCALENDAR
