BEGIN:VCALENDAR
VERSION:2.0
PRODID:-//Focales
CALSCALE:GREGORIAN
METHOD:PUBLISH
X-WR-CALNAME:Focales
X-ORIGINAL-URL:https://focales.org/letabli-de-mathias-gokalp/
X-WR-CALDESC:L&rsquo;ÉTABLI, DE MATHIAS GOKALP
BEGIN:VEVENT
DTSTART:20230314T200000
DTEND:20230314T223000
SUMMARY:L&rsquo;ÉTABLI, DE MATHIAS GOKALP
DESCRIPTION:
LOCATION:Cinéma Le Rio 178 rue Sous les Vignes Clermont-Ferrand, 63100 France
END:VEVENT
END:VCALENDAR
