BEGIN:VCALENDAR
VERSION:2.0
PRODID:-//Focales
CALSCALE:GREGORIAN
METHOD:PUBLISH
X-WR-CALNAME:Focales
X-ORIGINAL-URL:https://focales.org/ceux-de-la-nuit-de-sarah-leonor/
X-WR-CALDESC:CEUX DE LA NUIT, DE SARAH LÉONOR
BEGIN:VEVENT
DTSTART:20230303T200000
DTEND:20230303T223000
SUMMARY:CEUX DE LA NUIT, DE SARAH LÉONOR
DESCRIPTION:
LOCATION:Cinéma Le Rio 178 rue Sous les Vignes Clermont-Ferrand, 63100 France
END:VEVENT
END:VCALENDAR
