BEGIN:VCALENDAR
VERSION:2.0
PRODID:-//Focales
CALSCALE:GREGORIAN
METHOD:PUBLISH
X-WR-CALNAME:Focales
X-ORIGINAL-URL:https://focales.org/festival-de-riom-2023-sales-gosses/
X-WR-CALDESC:FESTIVAL DE RIOM 2023 &#8211; « SALES GOSSES ? »
BEGIN:VEVENT
DTSTART:20230310T183000
DTEND:20230318T232900
SUMMARY:FESTIVAL DE RIOM 2023 &#8211; « SALES GOSSES ? »
DESCRIPTION:
LOCATION:Cinéma Arcadia, 2B Fbg de la Bade, 63200 Riom
END:VEVENT
END:VCALENDAR
