BEGIN:VCALENDAR
VERSION:2.0
PRODID:-//Focales
CALSCALE:GREGORIAN
METHOD:PUBLISH
X-WR-CALNAME:Focales
X-ORIGINAL-URL:https://focales.org/ateliers-traces-de-vies-a-la-semaine-de-la-presse-2023/
X-WR-CALDESC:ATELIERS TRACES DE VIES À LA SEMAINE DE LA PRESSE 2023
BEGIN:VEVENT
DTSTART:20230320T080000
DTEND:20230401T235900
SUMMARY:ATELIERS TRACES DE VIES À LA SEMAINE DE LA PRESSE 2023
DESCRIPTION:
LOCATION:
END:VEVENT
END:VCALENDAR
