BEGIN:VCALENDAR
VERSION:2.0
PRODID:-//Focales
CALSCALE:GREGORIAN
METHOD:PUBLISH
X-WR-CALNAME:Focales
X-ORIGINAL-URL:https://focales.org/la-ou-le-temps-sest-arrete-rencontres-avec-christophe-tardy/
X-WR-CALDESC:LÀ OÙ LE TEMPS S&rsquo;EST ARRÊTÉ &#8211; RENCONTRES AVEC CHRISTOPHE TARDY
BEGIN:VEVENT
DTSTART:20230301T203000
DTEND:20230319T203000
SUMMARY:LÀ OÙ LE TEMPS S&rsquo;EST ARRÊTÉ &#8211; RENCONTRES AVEC CHRISTOPHE TARDY
DESCRIPTION:
LOCATION:
END:VEVENT
END:VCALENDAR
