BEGIN:VCALENDAR
VERSION:2.0
PRODID:-//Focales
CALSCALE:GREGORIAN
METHOD:PUBLISH
X-WR-CALNAME:Focales
X-ORIGINAL-URL:https://focales.org/noemie-dit-oui-de-genevieve-albert/
X-WR-CALDESC:NOÉMIE DIT OUI DE GENEVIÈVE ALBERT
BEGIN:VEVENT
DTSTART:20230406T200000
DTEND:20230406T230000
SUMMARY:NOÉMIE DIT OUI DE GENEVIÈVE ALBERT
DESCRIPTION:
LOCATION:Cinéma Le Rio 178 rue Sous les Vignes Clermont-Ferrand, 63100 France
END:VEVENT
END:VCALENDAR
