BEGIN:VCALENDAR
VERSION:2.0
PRODID:-//Focales
CALSCALE:GREGORIAN
METHOD:PUBLISH
X-WR-CALNAME:Focales
X-ORIGINAL-URL:https://focales.org/festival-videoformes-2023/
X-WR-CALDESC:FESTIVAL VIDÉOFORMES 2023
BEGIN:VEVENT
DTSTART:20230316T090000
DTEND:20230402T235900
SUMMARY:FESTIVAL VIDÉOFORMES 2023
DESCRIPTION:
LOCATION:Maison de la culture, 71 Bd François Mitterrand, 63000 Clermont-Ferrand
END:VEVENT
END:VCALENDAR
