BEGIN:VCALENDAR
VERSION:2.0
PRODID:-//Focales
CALSCALE:GREGORIAN
METHOD:PUBLISH
X-WR-CALNAME:Focales
X-ORIGINAL-URL:https://focales.org/6e-residence-ecriture-de-scenario/
X-WR-CALDESC:6e RÉSIDENCE ÉCRITURE DE SCÉNARIO
BEGIN:VEVENT
DTSTART:20230315T090000
DTEND:20230406T180000
SUMMARY:6e RÉSIDENCE ÉCRITURE DE SCÉNARIO
DESCRIPTION:
LOCATION:85 Rue du Dr Bousquet, 63100 Clermont-Ferrand
END:VEVENT
END:VCALENDAR
