BEGIN:VCALENDAR
VERSION:2.0
PRODID:-//Focales
CALSCALE:GREGORIAN
METHOD:PUBLISH
X-WR-CALNAME:Focales
X-ORIGINAL-URL:https://focales.org/6e-edition-de-projetoi/
X-WR-CALDESC:6e édition de Projet&rsquo;oi
BEGIN:VEVENT
DTSTART:20230308T080000
DTEND:20230731T120000
SUMMARY:6e édition de Projet&rsquo;oi
DESCRIPTION:
LOCATION:
END:VEVENT
END:VCALENDAR
