BEGIN:VCALENDAR
VERSION:2.0
PRODID:-//Focales
CALSCALE:GREGORIAN
METHOD:PUBLISH
X-WR-CALNAME:Focales
X-ORIGINAL-URL:https://focales.org/rencontre-avec-les-realisateurs-de-la-residence-decriture-de-scenarios-a-moulins-2/
X-WR-CALDESC:RENCONTRE AVEC LES RÉALISATEURS DE LA RÉSIDENCE D&rsquo;ÉCRITURE DE SCÉNARIOS À MOULINS
BEGIN:VEVENT
DTSTART:20230327T100000
DTEND:20230405T140000
SUMMARY:RENCONTRE AVEC LES RÉALISATEURS DE LA RÉSIDENCE D&rsquo;ÉCRITURE DE SCÉNARIOS À MOULINS
DESCRIPTION:
LOCATION:Musée de l'Illustration Jeunesse, Moulins
END:VEVENT
END:VCALENDAR
