BEGIN:VCALENDAR
VERSION:2.0
PRODID:-//Focales
CALSCALE:GREGORIAN
METHOD:PUBLISH
X-WR-CALNAME:Focales
X-ORIGINAL-URL:https://focales.org/appel-a-films-festival-national-du-film-scolaire-de-lyon/
X-WR-CALDESC:APPEL À FILMS &#8211; FESTIVAL NATIONAL DU FILM SCOLAIRE DE LYON
BEGIN:VEVENT
DTSTART:20230313T090000
DTEND:20230504T235900
SUMMARY:APPEL À FILMS &#8211; FESTIVAL NATIONAL DU FILM SCOLAIRE DE LYON
DESCRIPTION:
LOCATION:
END:VEVENT
END:VCALENDAR
